BEGIN:VCALENDAR
VERSION:2.0
PRODID:-//NuPath, Inc - ECPv6.15.20//NONSGML v1.0//EN
CALSCALE:GREGORIAN
METHOD:PUBLISH
X-ORIGINAL-URL:https://nupathinc.org
X-WR-CALDESC:Events for NuPath, Inc
REFRESH-INTERVAL;VALUE=DURATION:PT1H
X-Robots-Tag:noindex
X-PUBLISHED-TTL:PT1H
BEGIN:VTIMEZONE
TZID:UTC
BEGIN:STANDARD
TZOFFSETFROM:+0000
TZOFFSETTO:+0000
TZNAME:UTC
DTSTART:20190101T000000
END:STANDARD
END:VTIMEZONE
BEGIN:VEVENT
DTSTART;TZID=UTC:20200521T090000
DTEND;TZID=UTC:20200521T100000
DTSTAMP:20260421T063845
CREATED:20200420T181846Z
LAST-MODIFIED:20200420T181846Z
UID:4940-1590051600-1590055200@nupathinc.org
SUMMARY:No Walls Excursions
DESCRIPTION:Click Here to Join Meeting \nMeeting ID: 256-699-2474 \nPassword: 005521
URL:https://nupathinc.org/event/kens-weekdays-no-walls-participants-shout-out-2020-05-21/
CATEGORIES:No Walls
END:VEVENT
BEGIN:VEVENT
DTSTART;TZID=UTC:20200521T110000
DTEND;TZID=UTC:20200521T120000
DTSTAMP:20260421T063845
CREATED:20200420T180924Z
LAST-MODIFIED:20200420T180924Z
UID:4758-1590058800-1590062400@nupathinc.org
SUMMARY:Powered up with Fitness
DESCRIPTION:POWER -UP fitness is 20 – 30 minutes of fun fitness for all  (with weekly challenges). No weights or fitness equipment required and the vast majority of the exercises can be done standing or seated. Go at your own pace or try and keep up with the host (Amy\, Erika & James). \n\nJoin Zoom Meeting\n\n\nMeeting ID: 865 9607 9975\nPassword: 308475
URL:https://nupathinc.org/event/fitness-with-james-and-amy-2020-05-21/
CATEGORIES:fitness
ATTACH;FMTTYPE=:
END:VEVENT
BEGIN:VEVENT
DTSTART;TZID=UTC:20200521T110000
DTEND;TZID=UTC:20200521T120000
DTSTAMP:20260421T063845
CREATED:20200420T192355Z
LAST-MODIFIED:20200420T192355Z
UID:7461-1590058800-1590062400@nupathinc.org
SUMMARY:Funky Karaoke!
DESCRIPTION:Sing & dance like no one is watching! Karaoke is the perfect escape to let loose and shine especially after a long & strenuous week. Music is the perfect therapy to allow us to forget about the present and live in the power of our imagination. So bring your imaginary mic and we will provide your rhythm of choice!\n\nClick Here to Join Meeting\n\n\n\nMeeting ID: 840 1921 6177\nPassword: 418494
URL:https://nupathinc.org/event/funky-fridays-karaoke-2020-05-21/
CATEGORIES:Music
END:VEVENT
BEGIN:VEVENT
DTSTART;TZID=UTC:20200521T120000
DTEND;TZID=UTC:20200521T123000
DTSTAMP:20260421T063845
CREATED:20200420T181550Z
LAST-MODIFIED:20200420T181550Z
UID:15721-1590062400-1590064200@nupathinc.org
SUMMARY:The Noontime Extravaganza
DESCRIPTION:Click Here to Join Meeting \nMeeting ID: 256-699-2474 \nPassword: 005521
URL:https://nupathinc.org/event/ken-jen-and-mikes-noontime-extravaganza-2020-05-21/
END:VEVENT
BEGIN:VEVENT
DTSTART;TZID=UTC:20200521T131500
DTEND;TZID=UTC:20200521T141500
DTSTAMP:20260421T063845
CREATED:20200519T003753Z
LAST-MODIFIED:20200519T003753Z
UID:5766-1590066900-1590070500@nupathinc.org
SUMMARY:Safety & Preparation / Re-Entering The Workplace
DESCRIPTION:Join Greg Brandy and Ebere Abosi as they help to prepare YOU to re-enter the workplace post Covid-19. The places we work will look a lot different when we go back. How do we prepare? What kinds of changes will there be? This group will focus on the safety and awareness that will be required of us when we return to work in a “new normal” environment. \nClick Here to Join Meeting! \nMeeting ID: 837 6911 5662\nPassword: 826537
URL:https://nupathinc.org/event/safety-preparation-re-entering-the-workplace/
CATEGORIES:Job Camp
END:VEVENT
BEGIN:VEVENT
DTSTART;TZID=UTC:20200521T140000
DTEND;TZID=UTC:20200521T150000
DTSTAMP:20260421T063845
CREATED:20200422T193045Z
LAST-MODIFIED:20200422T193045Z
UID:13884-1590069600-1590073200@nupathinc.org
SUMMARY:Game Time!
DESCRIPTION:Join us every Friday afternoon from 2-3pm for Game Time! Each we’ll be playing a virtual “board game” with everybody who logs in. \nClick Here to Join the Meeting  \nMeeting ID: 890-0957-9545 \nPassword: 194052
URL:https://nupathinc.org/event/game-time-w-aggie-erika-alex-2020-05-21/
CATEGORIES:Games
END:VEVENT
END:VCALENDAR