BEGIN:VCALENDAR
VERSION:2.0
PRODID:-//NuPath, Inc - ECPv6.15.20//NONSGML v1.0//EN
CALSCALE:GREGORIAN
METHOD:PUBLISH
X-WR-CALNAME:NuPath, Inc
X-ORIGINAL-URL:https://nupathinc.org
X-WR-CALDESC:Events for NuPath, Inc
REFRESH-INTERVAL;VALUE=DURATION:PT1H
X-Robots-Tag:noindex
X-PUBLISHED-TTL:PT1H
BEGIN:VTIMEZONE
TZID:UTC
BEGIN:STANDARD
TZOFFSETFROM:+0000
TZOFFSETTO:+0000
TZNAME:UTC
DTSTART:20220101T000000
END:STANDARD
END:VTIMEZONE
BEGIN:VEVENT
DTSTART;TZID=UTC:20230719T100000
DTEND;TZID=UTC:20230719T110000
DTSTAMP:20260425T070539
CREATED:20200416T234342Z
LAST-MODIFIED:20200416T234342Z
UID:16915-1689760800-1689764400@nupathinc.org
SUMMARY:Morning Meeting and MORE!
DESCRIPTION:NuPath’s Virtual Morning Meeting helps us to maintain a part of the Day Program routine remotely. We will cover the daily essentials such as the calendar and weather updates\, and guide opportunities and activities that promote exercise and excitement… \nMorning meeting wakes up both the mind and body and is the perfect way to start the day! \nClick here to Join Meeting \nMeeting ID: 830 3698 7359\nPassword: 625588
URL:https://nupathinc.org/event/morning-meeting-2-2023-07-19/
ATTACH;FMTTYPE=:
END:VEVENT
BEGIN:VEVENT
DTSTART;TZID=UTC:20230718T100000
DTEND;TZID=UTC:20230718T110000
DTSTAMP:20260425T070539
CREATED:20200416T234342Z
LAST-MODIFIED:20200416T234342Z
UID:16914-1689674400-1689678000@nupathinc.org
SUMMARY:Morning Meeting and MORE!
DESCRIPTION:NuPath’s Virtual Morning Meeting helps us to maintain a part of the Day Program routine remotely. We will cover the daily essentials such as the calendar and weather updates\, and guide opportunities and activities that promote exercise and excitement… \nMorning meeting wakes up both the mind and body and is the perfect way to start the day! \nClick here to Join Meeting \nMeeting ID: 830 3698 7359\nPassword: 625588
URL:https://nupathinc.org/event/morning-meeting-2-2023-07-18/
ATTACH;FMTTYPE=:
END:VEVENT
BEGIN:VEVENT
DTSTART;TZID=UTC:20230717T100000
DTEND;TZID=UTC:20230717T110000
DTSTAMP:20260425T070539
CREATED:20200416T234342Z
LAST-MODIFIED:20200416T234342Z
UID:16913-1689588000-1689591600@nupathinc.org
SUMMARY:Morning Meeting and MORE!
DESCRIPTION:NuPath’s Virtual Morning Meeting helps us to maintain a part of the Day Program routine remotely. We will cover the daily essentials such as the calendar and weather updates\, and guide opportunities and activities that promote exercise and excitement… \nMorning meeting wakes up both the mind and body and is the perfect way to start the day! \nClick here to Join Meeting \nMeeting ID: 830 3698 7359\nPassword: 625588
URL:https://nupathinc.org/event/morning-meeting-2-2023-07-17/
ATTACH;FMTTYPE=:
END:VEVENT
BEGIN:VEVENT
DTSTART;TZID=UTC:20230714T100000
DTEND;TZID=UTC:20230714T110000
DTSTAMP:20260425T070539
CREATED:20200416T234342Z
LAST-MODIFIED:20200416T234342Z
UID:16912-1689328800-1689332400@nupathinc.org
SUMMARY:Morning Meeting and MORE!
DESCRIPTION:NuPath’s Virtual Morning Meeting helps us to maintain a part of the Day Program routine remotely. We will cover the daily essentials such as the calendar and weather updates\, and guide opportunities and activities that promote exercise and excitement… \nMorning meeting wakes up both the mind and body and is the perfect way to start the day! \nClick here to Join Meeting \nMeeting ID: 830 3698 7359\nPassword: 625588
URL:https://nupathinc.org/event/morning-meeting-2-2023-07-14/
ATTACH;FMTTYPE=:
END:VEVENT
BEGIN:VEVENT
DTSTART;TZID=UTC:20230713T100000
DTEND;TZID=UTC:20230713T110000
DTSTAMP:20260425T070539
CREATED:20200416T234342Z
LAST-MODIFIED:20200416T234342Z
UID:16911-1689242400-1689246000@nupathinc.org
SUMMARY:Morning Meeting and MORE!
DESCRIPTION:NuPath’s Virtual Morning Meeting helps us to maintain a part of the Day Program routine remotely. We will cover the daily essentials such as the calendar and weather updates\, and guide opportunities and activities that promote exercise and excitement… \nMorning meeting wakes up both the mind and body and is the perfect way to start the day! \nClick here to Join Meeting \nMeeting ID: 830 3698 7359\nPassword: 625588
URL:https://nupathinc.org/event/morning-meeting-2-2023-07-13/
ATTACH;FMTTYPE=:
END:VEVENT
BEGIN:VEVENT
DTSTART;TZID=UTC:20230712T100000
DTEND;TZID=UTC:20230712T110000
DTSTAMP:20260425T070539
CREATED:20200416T234342Z
LAST-MODIFIED:20200416T234342Z
UID:16910-1689156000-1689159600@nupathinc.org
SUMMARY:Morning Meeting and MORE!
DESCRIPTION:NuPath’s Virtual Morning Meeting helps us to maintain a part of the Day Program routine remotely. We will cover the daily essentials such as the calendar and weather updates\, and guide opportunities and activities that promote exercise and excitement… \nMorning meeting wakes up both the mind and body and is the perfect way to start the day! \nClick here to Join Meeting \nMeeting ID: 830 3698 7359\nPassword: 625588
URL:https://nupathinc.org/event/morning-meeting-2-2023-07-12/
ATTACH;FMTTYPE=:
END:VEVENT
BEGIN:VEVENT
DTSTART;TZID=UTC:20230711T100000
DTEND;TZID=UTC:20230711T110000
DTSTAMP:20260425T070539
CREATED:20200416T234342Z
LAST-MODIFIED:20200416T234342Z
UID:16909-1689069600-1689073200@nupathinc.org
SUMMARY:Morning Meeting and MORE!
DESCRIPTION:NuPath’s Virtual Morning Meeting helps us to maintain a part of the Day Program routine remotely. We will cover the daily essentials such as the calendar and weather updates\, and guide opportunities and activities that promote exercise and excitement… \nMorning meeting wakes up both the mind and body and is the perfect way to start the day! \nClick here to Join Meeting \nMeeting ID: 830 3698 7359\nPassword: 625588
URL:https://nupathinc.org/event/morning-meeting-2-2023-07-11/
ATTACH;FMTTYPE=:
END:VEVENT
BEGIN:VEVENT
DTSTART;TZID=UTC:20230710T100000
DTEND;TZID=UTC:20230710T110000
DTSTAMP:20260425T070539
CREATED:20200416T234342Z
LAST-MODIFIED:20200416T234342Z
UID:16908-1688983200-1688986800@nupathinc.org
SUMMARY:Morning Meeting and MORE!
DESCRIPTION:NuPath’s Virtual Morning Meeting helps us to maintain a part of the Day Program routine remotely. We will cover the daily essentials such as the calendar and weather updates\, and guide opportunities and activities that promote exercise and excitement… \nMorning meeting wakes up both the mind and body and is the perfect way to start the day! \nClick here to Join Meeting \nMeeting ID: 830 3698 7359\nPassword: 625588
URL:https://nupathinc.org/event/morning-meeting-2-2023-07-10/
ATTACH;FMTTYPE=:
END:VEVENT
BEGIN:VEVENT
DTSTART;TZID=UTC:20230707T100000
DTEND;TZID=UTC:20230707T110000
DTSTAMP:20260425T070539
CREATED:20200416T234342Z
LAST-MODIFIED:20200416T234342Z
UID:16907-1688724000-1688727600@nupathinc.org
SUMMARY:Morning Meeting and MORE!
DESCRIPTION:NuPath’s Virtual Morning Meeting helps us to maintain a part of the Day Program routine remotely. We will cover the daily essentials such as the calendar and weather updates\, and guide opportunities and activities that promote exercise and excitement… \nMorning meeting wakes up both the mind and body and is the perfect way to start the day! \nClick here to Join Meeting \nMeeting ID: 830 3698 7359\nPassword: 625588
URL:https://nupathinc.org/event/morning-meeting-2-2023-07-07/
ATTACH;FMTTYPE=:
END:VEVENT
BEGIN:VEVENT
DTSTART;TZID=UTC:20230706T100000
DTEND;TZID=UTC:20230706T110000
DTSTAMP:20260425T070539
CREATED:20200416T234342Z
LAST-MODIFIED:20200416T234342Z
UID:16906-1688637600-1688641200@nupathinc.org
SUMMARY:Morning Meeting and MORE!
DESCRIPTION:NuPath’s Virtual Morning Meeting helps us to maintain a part of the Day Program routine remotely. We will cover the daily essentials such as the calendar and weather updates\, and guide opportunities and activities that promote exercise and excitement… \nMorning meeting wakes up both the mind and body and is the perfect way to start the day! \nClick here to Join Meeting \nMeeting ID: 830 3698 7359\nPassword: 625588
URL:https://nupathinc.org/event/morning-meeting-2-2023-07-06/
ATTACH;FMTTYPE=:
END:VEVENT
BEGIN:VEVENT
DTSTART;TZID=UTC:20230705T100000
DTEND;TZID=UTC:20230705T110000
DTSTAMP:20260425T070539
CREATED:20200416T234342Z
LAST-MODIFIED:20200416T234342Z
UID:16905-1688551200-1688554800@nupathinc.org
SUMMARY:Morning Meeting and MORE!
DESCRIPTION:NuPath’s Virtual Morning Meeting helps us to maintain a part of the Day Program routine remotely. We will cover the daily essentials such as the calendar and weather updates\, and guide opportunities and activities that promote exercise and excitement… \nMorning meeting wakes up both the mind and body and is the perfect way to start the day! \nClick here to Join Meeting \nMeeting ID: 830 3698 7359\nPassword: 625588
URL:https://nupathinc.org/event/morning-meeting-2-2023-07-05/
ATTACH;FMTTYPE=:
END:VEVENT
BEGIN:VEVENT
DTSTART;TZID=UTC:20230704T100000
DTEND;TZID=UTC:20230704T110000
DTSTAMP:20260425T070539
CREATED:20200416T234342Z
LAST-MODIFIED:20200416T234342Z
UID:16904-1688464800-1688468400@nupathinc.org
SUMMARY:Morning Meeting and MORE!
DESCRIPTION:NuPath’s Virtual Morning Meeting helps us to maintain a part of the Day Program routine remotely. We will cover the daily essentials such as the calendar and weather updates\, and guide opportunities and activities that promote exercise and excitement… \nMorning meeting wakes up both the mind and body and is the perfect way to start the day! \nClick here to Join Meeting \nMeeting ID: 830 3698 7359\nPassword: 625588
URL:https://nupathinc.org/event/morning-meeting-2-2023-07-04/
ATTACH;FMTTYPE=:
END:VEVENT
BEGIN:VEVENT
DTSTART;TZID=UTC:20230703T100000
DTEND;TZID=UTC:20230703T110000
DTSTAMP:20260425T070539
CREATED:20200416T234342Z
LAST-MODIFIED:20200416T234342Z
UID:16903-1688378400-1688382000@nupathinc.org
SUMMARY:Morning Meeting and MORE!
DESCRIPTION:NuPath’s Virtual Morning Meeting helps us to maintain a part of the Day Program routine remotely. We will cover the daily essentials such as the calendar and weather updates\, and guide opportunities and activities that promote exercise and excitement… \nMorning meeting wakes up both the mind and body and is the perfect way to start the day! \nClick here to Join Meeting \nMeeting ID: 830 3698 7359\nPassword: 625588
URL:https://nupathinc.org/event/morning-meeting-2-2023-07-03/
ATTACH;FMTTYPE=:
END:VEVENT
BEGIN:VEVENT
DTSTART;TZID=UTC:20230630T100000
DTEND;TZID=UTC:20230630T110000
DTSTAMP:20260425T070539
CREATED:20200416T234342Z
LAST-MODIFIED:20200416T234342Z
UID:16902-1688119200-1688122800@nupathinc.org
SUMMARY:Morning Meeting and MORE!
DESCRIPTION:NuPath’s Virtual Morning Meeting helps us to maintain a part of the Day Program routine remotely. We will cover the daily essentials such as the calendar and weather updates\, and guide opportunities and activities that promote exercise and excitement… \nMorning meeting wakes up both the mind and body and is the perfect way to start the day! \nClick here to Join Meeting \nMeeting ID: 830 3698 7359\nPassword: 625588
URL:https://nupathinc.org/event/morning-meeting-2-2023-06-30/
ATTACH;FMTTYPE=:
END:VEVENT
BEGIN:VEVENT
DTSTART;TZID=UTC:20230629T100000
DTEND;TZID=UTC:20230629T110000
DTSTAMP:20260425T070539
CREATED:20200416T234342Z
LAST-MODIFIED:20200416T234342Z
UID:16901-1688032800-1688036400@nupathinc.org
SUMMARY:Morning Meeting and MORE!
DESCRIPTION:NuPath’s Virtual Morning Meeting helps us to maintain a part of the Day Program routine remotely. We will cover the daily essentials such as the calendar and weather updates\, and guide opportunities and activities that promote exercise and excitement… \nMorning meeting wakes up both the mind and body and is the perfect way to start the day! \nClick here to Join Meeting \nMeeting ID: 830 3698 7359\nPassword: 625588
URL:https://nupathinc.org/event/morning-meeting-2-2023-06-29/
ATTACH;FMTTYPE=:
END:VEVENT
BEGIN:VEVENT
DTSTART;TZID=UTC:20230628T100000
DTEND;TZID=UTC:20230628T110000
DTSTAMP:20260425T070539
CREATED:20200416T234342Z
LAST-MODIFIED:20200416T234342Z
UID:16900-1687946400-1687950000@nupathinc.org
SUMMARY:Morning Meeting and MORE!
DESCRIPTION:NuPath’s Virtual Morning Meeting helps us to maintain a part of the Day Program routine remotely. We will cover the daily essentials such as the calendar and weather updates\, and guide opportunities and activities that promote exercise and excitement… \nMorning meeting wakes up both the mind and body and is the perfect way to start the day! \nClick here to Join Meeting \nMeeting ID: 830 3698 7359\nPassword: 625588
URL:https://nupathinc.org/event/morning-meeting-2-2023-06-28/
ATTACH;FMTTYPE=:
END:VEVENT
BEGIN:VEVENT
DTSTART;TZID=UTC:20230627T100000
DTEND;TZID=UTC:20230627T110000
DTSTAMP:20260425T070539
CREATED:20200416T234342Z
LAST-MODIFIED:20200416T234342Z
UID:16899-1687860000-1687863600@nupathinc.org
SUMMARY:Morning Meeting and MORE!
DESCRIPTION:NuPath’s Virtual Morning Meeting helps us to maintain a part of the Day Program routine remotely. We will cover the daily essentials such as the calendar and weather updates\, and guide opportunities and activities that promote exercise and excitement… \nMorning meeting wakes up both the mind and body and is the perfect way to start the day! \nClick here to Join Meeting \nMeeting ID: 830 3698 7359\nPassword: 625588
URL:https://nupathinc.org/event/morning-meeting-2-2023-06-27/
ATTACH;FMTTYPE=:
END:VEVENT
BEGIN:VEVENT
DTSTART;TZID=UTC:20230626T100000
DTEND;TZID=UTC:20230626T110000
DTSTAMP:20260425T070539
CREATED:20200416T234342Z
LAST-MODIFIED:20200416T234342Z
UID:16898-1687773600-1687777200@nupathinc.org
SUMMARY:Morning Meeting and MORE!
DESCRIPTION:NuPath’s Virtual Morning Meeting helps us to maintain a part of the Day Program routine remotely. We will cover the daily essentials such as the calendar and weather updates\, and guide opportunities and activities that promote exercise and excitement… \nMorning meeting wakes up both the mind and body and is the perfect way to start the day! \nClick here to Join Meeting \nMeeting ID: 830 3698 7359\nPassword: 625588
URL:https://nupathinc.org/event/morning-meeting-2-2023-06-26/
ATTACH;FMTTYPE=:
END:VEVENT
BEGIN:VEVENT
DTSTART;TZID=UTC:20230623T100000
DTEND;TZID=UTC:20230623T110000
DTSTAMP:20260425T070539
CREATED:20200416T234342Z
LAST-MODIFIED:20200416T234342Z
UID:16897-1687514400-1687518000@nupathinc.org
SUMMARY:Morning Meeting and MORE!
DESCRIPTION:NuPath’s Virtual Morning Meeting helps us to maintain a part of the Day Program routine remotely. We will cover the daily essentials such as the calendar and weather updates\, and guide opportunities and activities that promote exercise and excitement… \nMorning meeting wakes up both the mind and body and is the perfect way to start the day! \nClick here to Join Meeting \nMeeting ID: 830 3698 7359\nPassword: 625588
URL:https://nupathinc.org/event/morning-meeting-2-2023-06-23/
ATTACH;FMTTYPE=:
END:VEVENT
BEGIN:VEVENT
DTSTART;TZID=UTC:20230622T100000
DTEND;TZID=UTC:20230622T110000
DTSTAMP:20260425T070539
CREATED:20200416T234342Z
LAST-MODIFIED:20200416T234342Z
UID:16896-1687428000-1687431600@nupathinc.org
SUMMARY:Morning Meeting and MORE!
DESCRIPTION:NuPath’s Virtual Morning Meeting helps us to maintain a part of the Day Program routine remotely. We will cover the daily essentials such as the calendar and weather updates\, and guide opportunities and activities that promote exercise and excitement… \nMorning meeting wakes up both the mind and body and is the perfect way to start the day! \nClick here to Join Meeting \nMeeting ID: 830 3698 7359\nPassword: 625588
URL:https://nupathinc.org/event/morning-meeting-2-2023-06-22/
ATTACH;FMTTYPE=:
END:VEVENT
BEGIN:VEVENT
DTSTART;TZID=UTC:20230621T100000
DTEND;TZID=UTC:20230621T110000
DTSTAMP:20260425T070539
CREATED:20200416T234342Z
LAST-MODIFIED:20200416T234342Z
UID:16895-1687341600-1687345200@nupathinc.org
SUMMARY:Morning Meeting and MORE!
DESCRIPTION:NuPath’s Virtual Morning Meeting helps us to maintain a part of the Day Program routine remotely. We will cover the daily essentials such as the calendar and weather updates\, and guide opportunities and activities that promote exercise and excitement… \nMorning meeting wakes up both the mind and body and is the perfect way to start the day! \nClick here to Join Meeting \nMeeting ID: 830 3698 7359\nPassword: 625588
URL:https://nupathinc.org/event/morning-meeting-2-2023-06-21/
ATTACH;FMTTYPE=:
END:VEVENT
BEGIN:VEVENT
DTSTART;TZID=UTC:20230620T100000
DTEND;TZID=UTC:20230620T110000
DTSTAMP:20260425T070539
CREATED:20200416T234342Z
LAST-MODIFIED:20200416T234342Z
UID:16894-1687255200-1687258800@nupathinc.org
SUMMARY:Morning Meeting and MORE!
DESCRIPTION:NuPath’s Virtual Morning Meeting helps us to maintain a part of the Day Program routine remotely. We will cover the daily essentials such as the calendar and weather updates\, and guide opportunities and activities that promote exercise and excitement… \nMorning meeting wakes up both the mind and body and is the perfect way to start the day! \nClick here to Join Meeting \nMeeting ID: 830 3698 7359\nPassword: 625588
URL:https://nupathinc.org/event/morning-meeting-2-2023-06-20/
ATTACH;FMTTYPE=:
END:VEVENT
BEGIN:VEVENT
DTSTART;TZID=UTC:20230619T100000
DTEND;TZID=UTC:20230619T110000
DTSTAMP:20260425T070539
CREATED:20200416T234342Z
LAST-MODIFIED:20200416T234342Z
UID:16893-1687168800-1687172400@nupathinc.org
SUMMARY:Morning Meeting and MORE!
DESCRIPTION:NuPath’s Virtual Morning Meeting helps us to maintain a part of the Day Program routine remotely. We will cover the daily essentials such as the calendar and weather updates\, and guide opportunities and activities that promote exercise and excitement… \nMorning meeting wakes up both the mind and body and is the perfect way to start the day! \nClick here to Join Meeting \nMeeting ID: 830 3698 7359\nPassword: 625588
URL:https://nupathinc.org/event/morning-meeting-2-2023-06-19/
ATTACH;FMTTYPE=:
END:VEVENT
BEGIN:VEVENT
DTSTART;TZID=UTC:20230616T100000
DTEND;TZID=UTC:20230616T110000
DTSTAMP:20260425T070539
CREATED:20200416T234342Z
LAST-MODIFIED:20200416T234342Z
UID:16892-1686909600-1686913200@nupathinc.org
SUMMARY:Morning Meeting and MORE!
DESCRIPTION:NuPath’s Virtual Morning Meeting helps us to maintain a part of the Day Program routine remotely. We will cover the daily essentials such as the calendar and weather updates\, and guide opportunities and activities that promote exercise and excitement… \nMorning meeting wakes up both the mind and body and is the perfect way to start the day! \nClick here to Join Meeting \nMeeting ID: 830 3698 7359\nPassword: 625588
URL:https://nupathinc.org/event/morning-meeting-2-2023-06-16/
ATTACH;FMTTYPE=:
END:VEVENT
BEGIN:VEVENT
DTSTART;TZID=UTC:20230615T100000
DTEND;TZID=UTC:20230615T110000
DTSTAMP:20260425T070539
CREATED:20200416T234342Z
LAST-MODIFIED:20200416T234342Z
UID:16891-1686823200-1686826800@nupathinc.org
SUMMARY:Morning Meeting and MORE!
DESCRIPTION:NuPath’s Virtual Morning Meeting helps us to maintain a part of the Day Program routine remotely. We will cover the daily essentials such as the calendar and weather updates\, and guide opportunities and activities that promote exercise and excitement… \nMorning meeting wakes up both the mind and body and is the perfect way to start the day! \nClick here to Join Meeting \nMeeting ID: 830 3698 7359\nPassword: 625588
URL:https://nupathinc.org/event/morning-meeting-2-2023-06-15/
ATTACH;FMTTYPE=:
END:VEVENT
BEGIN:VEVENT
DTSTART;TZID=UTC:20230614T100000
DTEND;TZID=UTC:20230614T110000
DTSTAMP:20260425T070539
CREATED:20200416T234342Z
LAST-MODIFIED:20200416T234342Z
UID:16890-1686736800-1686740400@nupathinc.org
SUMMARY:Morning Meeting and MORE!
DESCRIPTION:NuPath’s Virtual Morning Meeting helps us to maintain a part of the Day Program routine remotely. We will cover the daily essentials such as the calendar and weather updates\, and guide opportunities and activities that promote exercise and excitement… \nMorning meeting wakes up both the mind and body and is the perfect way to start the day! \nClick here to Join Meeting \nMeeting ID: 830 3698 7359\nPassword: 625588
URL:https://nupathinc.org/event/morning-meeting-2-2023-06-14/
ATTACH;FMTTYPE=:
END:VEVENT
BEGIN:VEVENT
DTSTART;TZID=UTC:20230613T100000
DTEND;TZID=UTC:20230613T110000
DTSTAMP:20260425T070539
CREATED:20200416T234342Z
LAST-MODIFIED:20200416T234342Z
UID:16889-1686650400-1686654000@nupathinc.org
SUMMARY:Morning Meeting and MORE!
DESCRIPTION:NuPath’s Virtual Morning Meeting helps us to maintain a part of the Day Program routine remotely. We will cover the daily essentials such as the calendar and weather updates\, and guide opportunities and activities that promote exercise and excitement… \nMorning meeting wakes up both the mind and body and is the perfect way to start the day! \nClick here to Join Meeting \nMeeting ID: 830 3698 7359\nPassword: 625588
URL:https://nupathinc.org/event/morning-meeting-2-2023-06-13/
ATTACH;FMTTYPE=:
END:VEVENT
BEGIN:VEVENT
DTSTART;TZID=UTC:20230612T100000
DTEND;TZID=UTC:20230612T110000
DTSTAMP:20260425T070539
CREATED:20200416T234342Z
LAST-MODIFIED:20200416T234342Z
UID:16888-1686564000-1686567600@nupathinc.org
SUMMARY:Morning Meeting and MORE!
DESCRIPTION:NuPath’s Virtual Morning Meeting helps us to maintain a part of the Day Program routine remotely. We will cover the daily essentials such as the calendar and weather updates\, and guide opportunities and activities that promote exercise and excitement… \nMorning meeting wakes up both the mind and body and is the perfect way to start the day! \nClick here to Join Meeting \nMeeting ID: 830 3698 7359\nPassword: 625588
URL:https://nupathinc.org/event/morning-meeting-2-2023-06-12/
ATTACH;FMTTYPE=:
END:VEVENT
BEGIN:VEVENT
DTSTART;TZID=UTC:20230609T100000
DTEND;TZID=UTC:20230609T110000
DTSTAMP:20260425T070539
CREATED:20200416T234342Z
LAST-MODIFIED:20200416T234342Z
UID:16887-1686304800-1686308400@nupathinc.org
SUMMARY:Morning Meeting and MORE!
DESCRIPTION:NuPath’s Virtual Morning Meeting helps us to maintain a part of the Day Program routine remotely. We will cover the daily essentials such as the calendar and weather updates\, and guide opportunities and activities that promote exercise and excitement… \nMorning meeting wakes up both the mind and body and is the perfect way to start the day! \nClick here to Join Meeting \nMeeting ID: 830 3698 7359\nPassword: 625588
URL:https://nupathinc.org/event/morning-meeting-2-2023-06-09/
ATTACH;FMTTYPE=:
END:VEVENT
BEGIN:VEVENT
DTSTART;TZID=UTC:20230608T100000
DTEND;TZID=UTC:20230608T110000
DTSTAMP:20260425T070539
CREATED:20200416T234342Z
LAST-MODIFIED:20200416T234342Z
UID:16886-1686218400-1686222000@nupathinc.org
SUMMARY:Morning Meeting and MORE!
DESCRIPTION:NuPath’s Virtual Morning Meeting helps us to maintain a part of the Day Program routine remotely. We will cover the daily essentials such as the calendar and weather updates\, and guide opportunities and activities that promote exercise and excitement… \nMorning meeting wakes up both the mind and body and is the perfect way to start the day! \nClick here to Join Meeting \nMeeting ID: 830 3698 7359\nPassword: 625588
URL:https://nupathinc.org/event/morning-meeting-2-2023-06-08/
ATTACH;FMTTYPE=:
END:VEVENT
END:VCALENDAR