BEGIN:VCALENDAR
VERSION:2.0
PRODID:-//NuPath, Inc - ECPv6.15.20//NONSGML v1.0//EN
CALSCALE:GREGORIAN
METHOD:PUBLISH
X-WR-CALNAME:NuPath, Inc
X-ORIGINAL-URL:https://nupathinc.org
X-WR-CALDESC:Events for NuPath, Inc
REFRESH-INTERVAL;VALUE=DURATION:PT1H
X-Robots-Tag:noindex
X-PUBLISHED-TTL:PT1H
BEGIN:VTIMEZONE
TZID:UTC
BEGIN:STANDARD
TZOFFSETFROM:+0000
TZOFFSETTO:+0000
TZNAME:UTC
DTSTART:20220101T000000
END:STANDARD
END:VTIMEZONE
BEGIN:VTIMEZONE
TZID:America/New_York
BEGIN:DAYLIGHT
TZOFFSETFROM:-0500
TZOFFSETTO:-0400
TZNAME:EDT
DTSTART:20220313T070000
END:DAYLIGHT
BEGIN:STANDARD
TZOFFSETFROM:-0400
TZOFFSETTO:-0500
TZNAME:EST
DTSTART:20221106T060000
END:STANDARD
BEGIN:DAYLIGHT
TZOFFSETFROM:-0500
TZOFFSETTO:-0400
TZNAME:EDT
DTSTART:20230312T070000
END:DAYLIGHT
BEGIN:STANDARD
TZOFFSETFROM:-0400
TZOFFSETTO:-0500
TZNAME:EST
DTSTART:20231105T060000
END:STANDARD
BEGIN:DAYLIGHT
TZOFFSETFROM:-0500
TZOFFSETTO:-0400
TZNAME:EDT
DTSTART:20240310T070000
END:DAYLIGHT
BEGIN:STANDARD
TZOFFSETFROM:-0400
TZOFFSETTO:-0500
TZNAME:EST
DTSTART:20241103T060000
END:STANDARD
END:VTIMEZONE
BEGIN:VEVENT
DTSTART;TZID=UTC:20230512T100000
DTEND;TZID=UTC:20230512T110000
DTSTAMP:20260423T155500
CREATED:20200416T234342Z
LAST-MODIFIED:20200416T234342Z
UID:16867-1683885600-1683889200@nupathinc.org
SUMMARY:Morning Meeting and MORE!
DESCRIPTION:NuPath’s Virtual Morning Meeting helps us to maintain a part of the Day Program routine remotely. We will cover the daily essentials such as the calendar and weather updates\, and guide opportunities and activities that promote exercise and excitement… \nMorning meeting wakes up both the mind and body and is the perfect way to start the day! \nClick here to Join Meeting \nMeeting ID: 830 3698 7359\nPassword: 625588
URL:https://nupathinc.org/event/morning-meeting-2-2023-05-12/
ATTACH;FMTTYPE=:
END:VEVENT
BEGIN:VEVENT
DTSTART;TZID=UTC:20230511T100000
DTEND;TZID=UTC:20230511T110000
DTSTAMP:20260423T155500
CREATED:20200416T234342Z
LAST-MODIFIED:20200416T234342Z
UID:16866-1683799200-1683802800@nupathinc.org
SUMMARY:Morning Meeting and MORE!
DESCRIPTION:NuPath’s Virtual Morning Meeting helps us to maintain a part of the Day Program routine remotely. We will cover the daily essentials such as the calendar and weather updates\, and guide opportunities and activities that promote exercise and excitement… \nMorning meeting wakes up both the mind and body and is the perfect way to start the day! \nClick here to Join Meeting \nMeeting ID: 830 3698 7359\nPassword: 625588
URL:https://nupathinc.org/event/morning-meeting-2-2023-05-11/
ATTACH;FMTTYPE=:
END:VEVENT
BEGIN:VEVENT
DTSTART;TZID=UTC:20230510T100000
DTEND;TZID=UTC:20230510T110000
DTSTAMP:20260423T155500
CREATED:20200416T234342Z
LAST-MODIFIED:20200416T234342Z
UID:16865-1683712800-1683716400@nupathinc.org
SUMMARY:Morning Meeting and MORE!
DESCRIPTION:NuPath’s Virtual Morning Meeting helps us to maintain a part of the Day Program routine remotely. We will cover the daily essentials such as the calendar and weather updates\, and guide opportunities and activities that promote exercise and excitement… \nMorning meeting wakes up both the mind and body and is the perfect way to start the day! \nClick here to Join Meeting \nMeeting ID: 830 3698 7359\nPassword: 625588
URL:https://nupathinc.org/event/morning-meeting-2-2023-05-10/
ATTACH;FMTTYPE=:
END:VEVENT
BEGIN:VEVENT
DTSTART;TZID=UTC:20230509T100000
DTEND;TZID=UTC:20230509T110000
DTSTAMP:20260423T155500
CREATED:20200416T234342Z
LAST-MODIFIED:20200416T234342Z
UID:16864-1683626400-1683630000@nupathinc.org
SUMMARY:Morning Meeting and MORE!
DESCRIPTION:NuPath’s Virtual Morning Meeting helps us to maintain a part of the Day Program routine remotely. We will cover the daily essentials such as the calendar and weather updates\, and guide opportunities and activities that promote exercise and excitement… \nMorning meeting wakes up both the mind and body and is the perfect way to start the day! \nClick here to Join Meeting \nMeeting ID: 830 3698 7359\nPassword: 625588
URL:https://nupathinc.org/event/morning-meeting-2-2023-05-09/
ATTACH;FMTTYPE=:
END:VEVENT
BEGIN:VEVENT
DTSTART;TZID=UTC:20230508T100000
DTEND;TZID=UTC:20230508T110000
DTSTAMP:20260423T155500
CREATED:20200416T234342Z
LAST-MODIFIED:20200416T234342Z
UID:16863-1683540000-1683543600@nupathinc.org
SUMMARY:Morning Meeting and MORE!
DESCRIPTION:NuPath’s Virtual Morning Meeting helps us to maintain a part of the Day Program routine remotely. We will cover the daily essentials such as the calendar and weather updates\, and guide opportunities and activities that promote exercise and excitement… \nMorning meeting wakes up both the mind and body and is the perfect way to start the day! \nClick here to Join Meeting \nMeeting ID: 830 3698 7359\nPassword: 625588
URL:https://nupathinc.org/event/morning-meeting-2-2023-05-08/
ATTACH;FMTTYPE=:
END:VEVENT
BEGIN:VEVENT
DTSTART;TZID=UTC:20230505T100000
DTEND;TZID=UTC:20230505T110000
DTSTAMP:20260423T155500
CREATED:20200416T234342Z
LAST-MODIFIED:20200416T234342Z
UID:16862-1683280800-1683284400@nupathinc.org
SUMMARY:Morning Meeting and MORE!
DESCRIPTION:NuPath’s Virtual Morning Meeting helps us to maintain a part of the Day Program routine remotely. We will cover the daily essentials such as the calendar and weather updates\, and guide opportunities and activities that promote exercise and excitement… \nMorning meeting wakes up both the mind and body and is the perfect way to start the day! \nClick here to Join Meeting \nMeeting ID: 830 3698 7359\nPassword: 625588
URL:https://nupathinc.org/event/morning-meeting-2-2023-05-05/
ATTACH;FMTTYPE=:
END:VEVENT
BEGIN:VEVENT
DTSTART;TZID=UTC:20230504T100000
DTEND;TZID=UTC:20230504T110000
DTSTAMP:20260423T155500
CREATED:20200416T234342Z
LAST-MODIFIED:20200416T234342Z
UID:16861-1683194400-1683198000@nupathinc.org
SUMMARY:Morning Meeting and MORE!
DESCRIPTION:NuPath’s Virtual Morning Meeting helps us to maintain a part of the Day Program routine remotely. We will cover the daily essentials such as the calendar and weather updates\, and guide opportunities and activities that promote exercise and excitement… \nMorning meeting wakes up both the mind and body and is the perfect way to start the day! \nClick here to Join Meeting \nMeeting ID: 830 3698 7359\nPassword: 625588
URL:https://nupathinc.org/event/morning-meeting-2-2023-05-04/
ATTACH;FMTTYPE=:
END:VEVENT
BEGIN:VEVENT
DTSTART;TZID=UTC:20230503T100000
DTEND;TZID=UTC:20230503T110000
DTSTAMP:20260423T155500
CREATED:20200416T234342Z
LAST-MODIFIED:20200416T234342Z
UID:16860-1683108000-1683111600@nupathinc.org
SUMMARY:Morning Meeting and MORE!
DESCRIPTION:NuPath’s Virtual Morning Meeting helps us to maintain a part of the Day Program routine remotely. We will cover the daily essentials such as the calendar and weather updates\, and guide opportunities and activities that promote exercise and excitement… \nMorning meeting wakes up both the mind and body and is the perfect way to start the day! \nClick here to Join Meeting \nMeeting ID: 830 3698 7359\nPassword: 625588
URL:https://nupathinc.org/event/morning-meeting-2-2023-05-03/
ATTACH;FMTTYPE=:
END:VEVENT
BEGIN:VEVENT
DTSTART;TZID=UTC:20230502T100000
DTEND;TZID=UTC:20230502T110000
DTSTAMP:20260423T155500
CREATED:20200416T234342Z
LAST-MODIFIED:20200416T234342Z
UID:16859-1683021600-1683025200@nupathinc.org
SUMMARY:Morning Meeting and MORE!
DESCRIPTION:NuPath’s Virtual Morning Meeting helps us to maintain a part of the Day Program routine remotely. We will cover the daily essentials such as the calendar and weather updates\, and guide opportunities and activities that promote exercise and excitement… \nMorning meeting wakes up both the mind and body and is the perfect way to start the day! \nClick here to Join Meeting \nMeeting ID: 830 3698 7359\nPassword: 625588
URL:https://nupathinc.org/event/morning-meeting-2-2023-05-02/
ATTACH;FMTTYPE=:
END:VEVENT
BEGIN:VEVENT
DTSTART;TZID=UTC:20230501T100000
DTEND;TZID=UTC:20230501T110000
DTSTAMP:20260423T155500
CREATED:20200416T234342Z
LAST-MODIFIED:20200416T234342Z
UID:16858-1682935200-1682938800@nupathinc.org
SUMMARY:Morning Meeting and MORE!
DESCRIPTION:NuPath’s Virtual Morning Meeting helps us to maintain a part of the Day Program routine remotely. We will cover the daily essentials such as the calendar and weather updates\, and guide opportunities and activities that promote exercise and excitement… \nMorning meeting wakes up both the mind and body and is the perfect way to start the day! \nClick here to Join Meeting \nMeeting ID: 830 3698 7359\nPassword: 625588
URL:https://nupathinc.org/event/morning-meeting-2-2023-05-01/
ATTACH;FMTTYPE=:
END:VEVENT
BEGIN:VEVENT
DTSTART;TZID=UTC:20230428T100000
DTEND;TZID=UTC:20230428T110000
DTSTAMP:20260423T155500
CREATED:20200416T234342Z
LAST-MODIFIED:20200416T234342Z
UID:16857-1682676000-1682679600@nupathinc.org
SUMMARY:Morning Meeting and MORE!
DESCRIPTION:NuPath’s Virtual Morning Meeting helps us to maintain a part of the Day Program routine remotely. We will cover the daily essentials such as the calendar and weather updates\, and guide opportunities and activities that promote exercise and excitement… \nMorning meeting wakes up both the mind and body and is the perfect way to start the day! \nClick here to Join Meeting \nMeeting ID: 830 3698 7359\nPassword: 625588
URL:https://nupathinc.org/event/morning-meeting-2-2023-04-28/
ATTACH;FMTTYPE=:
END:VEVENT
BEGIN:VEVENT
DTSTART;TZID=UTC:20230427T100000
DTEND;TZID=UTC:20230427T110000
DTSTAMP:20260423T155500
CREATED:20200416T234342Z
LAST-MODIFIED:20200416T234342Z
UID:16856-1682589600-1682593200@nupathinc.org
SUMMARY:Morning Meeting and MORE!
DESCRIPTION:NuPath’s Virtual Morning Meeting helps us to maintain a part of the Day Program routine remotely. We will cover the daily essentials such as the calendar and weather updates\, and guide opportunities and activities that promote exercise and excitement… \nMorning meeting wakes up both the mind and body and is the perfect way to start the day! \nClick here to Join Meeting \nMeeting ID: 830 3698 7359\nPassword: 625588
URL:https://nupathinc.org/event/morning-meeting-2-2023-04-27/
ATTACH;FMTTYPE=:
END:VEVENT
BEGIN:VEVENT
DTSTART;TZID=UTC:20230426T100000
DTEND;TZID=UTC:20230426T110000
DTSTAMP:20260423T155500
CREATED:20200416T234342Z
LAST-MODIFIED:20200416T234342Z
UID:16855-1682503200-1682506800@nupathinc.org
SUMMARY:Morning Meeting and MORE!
DESCRIPTION:NuPath’s Virtual Morning Meeting helps us to maintain a part of the Day Program routine remotely. We will cover the daily essentials such as the calendar and weather updates\, and guide opportunities and activities that promote exercise and excitement… \nMorning meeting wakes up both the mind and body and is the perfect way to start the day! \nClick here to Join Meeting \nMeeting ID: 830 3698 7359\nPassword: 625588
URL:https://nupathinc.org/event/morning-meeting-2-2023-04-26/
ATTACH;FMTTYPE=:
END:VEVENT
BEGIN:VEVENT
DTSTART;TZID=UTC:20230425T100000
DTEND;TZID=UTC:20230425T110000
DTSTAMP:20260423T155500
CREATED:20200416T234342Z
LAST-MODIFIED:20200416T234342Z
UID:16854-1682416800-1682420400@nupathinc.org
SUMMARY:Morning Meeting and MORE!
DESCRIPTION:NuPath’s Virtual Morning Meeting helps us to maintain a part of the Day Program routine remotely. We will cover the daily essentials such as the calendar and weather updates\, and guide opportunities and activities that promote exercise and excitement… \nMorning meeting wakes up both the mind and body and is the perfect way to start the day! \nClick here to Join Meeting \nMeeting ID: 830 3698 7359\nPassword: 625588
URL:https://nupathinc.org/event/morning-meeting-2-2023-04-25/
ATTACH;FMTTYPE=:
END:VEVENT
BEGIN:VEVENT
DTSTART;TZID=UTC:20230424T100000
DTEND;TZID=UTC:20230424T110000
DTSTAMP:20260423T155500
CREATED:20200416T234342Z
LAST-MODIFIED:20200416T234342Z
UID:16853-1682330400-1682334000@nupathinc.org
SUMMARY:Morning Meeting and MORE!
DESCRIPTION:NuPath’s Virtual Morning Meeting helps us to maintain a part of the Day Program routine remotely. We will cover the daily essentials such as the calendar and weather updates\, and guide opportunities and activities that promote exercise and excitement… \nMorning meeting wakes up both the mind and body and is the perfect way to start the day! \nClick here to Join Meeting \nMeeting ID: 830 3698 7359\nPassword: 625588
URL:https://nupathinc.org/event/morning-meeting-2-2023-04-24/
ATTACH;FMTTYPE=:
END:VEVENT
BEGIN:VEVENT
DTSTART;TZID=UTC:20230421T100000
DTEND;TZID=UTC:20230421T110000
DTSTAMP:20260423T155500
CREATED:20200416T234342Z
LAST-MODIFIED:20200416T234342Z
UID:16852-1682071200-1682074800@nupathinc.org
SUMMARY:Morning Meeting and MORE!
DESCRIPTION:NuPath’s Virtual Morning Meeting helps us to maintain a part of the Day Program routine remotely. We will cover the daily essentials such as the calendar and weather updates\, and guide opportunities and activities that promote exercise and excitement… \nMorning meeting wakes up both the mind and body and is the perfect way to start the day! \nClick here to Join Meeting \nMeeting ID: 830 3698 7359\nPassword: 625588
URL:https://nupathinc.org/event/morning-meeting-2-2023-04-21/
ATTACH;FMTTYPE=:
END:VEVENT
BEGIN:VEVENT
DTSTART;TZID=UTC:20230420T100000
DTEND;TZID=UTC:20230420T110000
DTSTAMP:20260423T155500
CREATED:20200416T234342Z
LAST-MODIFIED:20200416T234342Z
UID:16851-1681984800-1681988400@nupathinc.org
SUMMARY:Morning Meeting and MORE!
DESCRIPTION:NuPath’s Virtual Morning Meeting helps us to maintain a part of the Day Program routine remotely. We will cover the daily essentials such as the calendar and weather updates\, and guide opportunities and activities that promote exercise and excitement… \nMorning meeting wakes up both the mind and body and is the perfect way to start the day! \nClick here to Join Meeting \nMeeting ID: 830 3698 7359\nPassword: 625588
URL:https://nupathinc.org/event/morning-meeting-2-2023-04-20/
ATTACH;FMTTYPE=:
END:VEVENT
BEGIN:VEVENT
DTSTART;TZID=UTC:20230419T100000
DTEND;TZID=UTC:20230419T110000
DTSTAMP:20260423T155500
CREATED:20200416T234342Z
LAST-MODIFIED:20200416T234342Z
UID:16850-1681898400-1681902000@nupathinc.org
SUMMARY:Morning Meeting and MORE!
DESCRIPTION:NuPath’s Virtual Morning Meeting helps us to maintain a part of the Day Program routine remotely. We will cover the daily essentials such as the calendar and weather updates\, and guide opportunities and activities that promote exercise and excitement… \nMorning meeting wakes up both the mind and body and is the perfect way to start the day! \nClick here to Join Meeting \nMeeting ID: 830 3698 7359\nPassword: 625588
URL:https://nupathinc.org/event/morning-meeting-2-2023-04-19/
ATTACH;FMTTYPE=:
END:VEVENT
BEGIN:VEVENT
DTSTART;TZID=UTC:20230418T100000
DTEND;TZID=UTC:20230418T110000
DTSTAMP:20260423T155500
CREATED:20200416T234342Z
LAST-MODIFIED:20200416T234342Z
UID:16849-1681812000-1681815600@nupathinc.org
SUMMARY:Morning Meeting and MORE!
DESCRIPTION:NuPath’s Virtual Morning Meeting helps us to maintain a part of the Day Program routine remotely. We will cover the daily essentials such as the calendar and weather updates\, and guide opportunities and activities that promote exercise and excitement… \nMorning meeting wakes up both the mind and body and is the perfect way to start the day! \nClick here to Join Meeting \nMeeting ID: 830 3698 7359\nPassword: 625588
URL:https://nupathinc.org/event/morning-meeting-2-2023-04-18/
ATTACH;FMTTYPE=:
END:VEVENT
BEGIN:VEVENT
DTSTART;TZID=UTC:20230417T100000
DTEND;TZID=UTC:20230417T110000
DTSTAMP:20260423T155500
CREATED:20200416T234342Z
LAST-MODIFIED:20200416T234342Z
UID:16848-1681725600-1681729200@nupathinc.org
SUMMARY:Morning Meeting and MORE!
DESCRIPTION:NuPath’s Virtual Morning Meeting helps us to maintain a part of the Day Program routine remotely. We will cover the daily essentials such as the calendar and weather updates\, and guide opportunities and activities that promote exercise and excitement… \nMorning meeting wakes up both the mind and body and is the perfect way to start the day! \nClick here to Join Meeting \nMeeting ID: 830 3698 7359\nPassword: 625588
URL:https://nupathinc.org/event/morning-meeting-2-2023-04-17/
ATTACH;FMTTYPE=:
END:VEVENT
BEGIN:VEVENT
DTSTART;TZID=UTC:20230414T100000
DTEND;TZID=UTC:20230414T110000
DTSTAMP:20260423T155500
CREATED:20200416T234342Z
LAST-MODIFIED:20200416T234342Z
UID:16847-1681466400-1681470000@nupathinc.org
SUMMARY:Morning Meeting and MORE!
DESCRIPTION:NuPath’s Virtual Morning Meeting helps us to maintain a part of the Day Program routine remotely. We will cover the daily essentials such as the calendar and weather updates\, and guide opportunities and activities that promote exercise and excitement… \nMorning meeting wakes up both the mind and body and is the perfect way to start the day! \nClick here to Join Meeting \nMeeting ID: 830 3698 7359\nPassword: 625588
URL:https://nupathinc.org/event/morning-meeting-2-2023-04-14/
ATTACH;FMTTYPE=:
END:VEVENT
BEGIN:VEVENT
DTSTART;TZID=UTC:20230413T100000
DTEND;TZID=UTC:20230413T110000
DTSTAMP:20260423T155500
CREATED:20200416T234342Z
LAST-MODIFIED:20200416T234342Z
UID:16846-1681380000-1681383600@nupathinc.org
SUMMARY:Morning Meeting and MORE!
DESCRIPTION:NuPath’s Virtual Morning Meeting helps us to maintain a part of the Day Program routine remotely. We will cover the daily essentials such as the calendar and weather updates\, and guide opportunities and activities that promote exercise and excitement… \nMorning meeting wakes up both the mind and body and is the perfect way to start the day! \nClick here to Join Meeting \nMeeting ID: 830 3698 7359\nPassword: 625588
URL:https://nupathinc.org/event/morning-meeting-2-2023-04-13/
ATTACH;FMTTYPE=:
END:VEVENT
BEGIN:VEVENT
DTSTART;TZID=UTC:20230412T100000
DTEND;TZID=UTC:20230412T110000
DTSTAMP:20260423T155500
CREATED:20200416T234342Z
LAST-MODIFIED:20200416T234342Z
UID:16845-1681293600-1681297200@nupathinc.org
SUMMARY:Morning Meeting and MORE!
DESCRIPTION:NuPath’s Virtual Morning Meeting helps us to maintain a part of the Day Program routine remotely. We will cover the daily essentials such as the calendar and weather updates\, and guide opportunities and activities that promote exercise and excitement… \nMorning meeting wakes up both the mind and body and is the perfect way to start the day! \nClick here to Join Meeting \nMeeting ID: 830 3698 7359\nPassword: 625588
URL:https://nupathinc.org/event/morning-meeting-2-2023-04-12/
ATTACH;FMTTYPE=:
END:VEVENT
BEGIN:VEVENT
DTSTART;TZID=UTC:20230411T100000
DTEND;TZID=UTC:20230411T110000
DTSTAMP:20260423T155500
CREATED:20200416T234342Z
LAST-MODIFIED:20200416T234342Z
UID:16844-1681207200-1681210800@nupathinc.org
SUMMARY:Morning Meeting and MORE!
DESCRIPTION:NuPath’s Virtual Morning Meeting helps us to maintain a part of the Day Program routine remotely. We will cover the daily essentials such as the calendar and weather updates\, and guide opportunities and activities that promote exercise and excitement… \nMorning meeting wakes up both the mind and body and is the perfect way to start the day! \nClick here to Join Meeting \nMeeting ID: 830 3698 7359\nPassword: 625588
URL:https://nupathinc.org/event/morning-meeting-2-2023-04-11/
ATTACH;FMTTYPE=:
END:VEVENT
BEGIN:VEVENT
DTSTART;TZID=UTC:20230410T100000
DTEND;TZID=UTC:20230410T110000
DTSTAMP:20260423T155500
CREATED:20200416T234342Z
LAST-MODIFIED:20200416T234342Z
UID:16843-1681120800-1681124400@nupathinc.org
SUMMARY:Morning Meeting and MORE!
DESCRIPTION:NuPath’s Virtual Morning Meeting helps us to maintain a part of the Day Program routine remotely. We will cover the daily essentials such as the calendar and weather updates\, and guide opportunities and activities that promote exercise and excitement… \nMorning meeting wakes up both the mind and body and is the perfect way to start the day! \nClick here to Join Meeting \nMeeting ID: 830 3698 7359\nPassword: 625588
URL:https://nupathinc.org/event/morning-meeting-2-2023-04-10/
ATTACH;FMTTYPE=:
END:VEVENT
BEGIN:VEVENT
DTSTART;TZID=UTC:20230407T100000
DTEND;TZID=UTC:20230407T110000
DTSTAMP:20260423T155500
CREATED:20200416T234342Z
LAST-MODIFIED:20200416T234342Z
UID:16842-1680861600-1680865200@nupathinc.org
SUMMARY:Morning Meeting and MORE!
DESCRIPTION:NuPath’s Virtual Morning Meeting helps us to maintain a part of the Day Program routine remotely. We will cover the daily essentials such as the calendar and weather updates\, and guide opportunities and activities that promote exercise and excitement… \nMorning meeting wakes up both the mind and body and is the perfect way to start the day! \nClick here to Join Meeting \nMeeting ID: 830 3698 7359\nPassword: 625588
URL:https://nupathinc.org/event/morning-meeting-2-2023-04-07/
ATTACH;FMTTYPE=:
END:VEVENT
BEGIN:VEVENT
DTSTART;TZID=America/New_York:20230406T173000
DTEND;TZID=America/New_York:20230406T203000
DTSTAMP:20260423T155500
CREATED:20221129T183003Z
LAST-MODIFIED:20230306T215927Z
UID:18904-1680802200-1680813000@nupathinc.org
SUMMARY:26th Annual A Taste of Spring
DESCRIPTION:Purchase Tickets Here
URL:https://nupathinc.org/event/26th-annual-a-taste-of-spring/
ATTACH;FMTTYPE=image/png:https://nupathinc.org/wp-content/uploads/2022/11/Taste-of-Spring-Banner.png
END:VEVENT
BEGIN:VEVENT
DTSTART;TZID=UTC:20230406T100000
DTEND;TZID=UTC:20230406T110000
DTSTAMP:20260423T155500
CREATED:20200416T234342Z
LAST-MODIFIED:20200416T234342Z
UID:16841-1680775200-1680778800@nupathinc.org
SUMMARY:Morning Meeting and MORE!
DESCRIPTION:NuPath’s Virtual Morning Meeting helps us to maintain a part of the Day Program routine remotely. We will cover the daily essentials such as the calendar and weather updates\, and guide opportunities and activities that promote exercise and excitement… \nMorning meeting wakes up both the mind and body and is the perfect way to start the day! \nClick here to Join Meeting \nMeeting ID: 830 3698 7359\nPassword: 625588
URL:https://nupathinc.org/event/morning-meeting-2-2023-04-06/
ATTACH;FMTTYPE=:
END:VEVENT
BEGIN:VEVENT
DTSTART;TZID=UTC:20230405T100000
DTEND;TZID=UTC:20230405T110000
DTSTAMP:20260423T155500
CREATED:20200416T234342Z
LAST-MODIFIED:20200416T234342Z
UID:16840-1680688800-1680692400@nupathinc.org
SUMMARY:Morning Meeting and MORE!
DESCRIPTION:NuPath’s Virtual Morning Meeting helps us to maintain a part of the Day Program routine remotely. We will cover the daily essentials such as the calendar and weather updates\, and guide opportunities and activities that promote exercise and excitement… \nMorning meeting wakes up both the mind and body and is the perfect way to start the day! \nClick here to Join Meeting \nMeeting ID: 830 3698 7359\nPassword: 625588
URL:https://nupathinc.org/event/morning-meeting-2-2023-04-05/
ATTACH;FMTTYPE=:
END:VEVENT
BEGIN:VEVENT
DTSTART;TZID=UTC:20230404T100000
DTEND;TZID=UTC:20230404T110000
DTSTAMP:20260423T155500
CREATED:20200416T234342Z
LAST-MODIFIED:20200416T234342Z
UID:16839-1680602400-1680606000@nupathinc.org
SUMMARY:Morning Meeting and MORE!
DESCRIPTION:NuPath’s Virtual Morning Meeting helps us to maintain a part of the Day Program routine remotely. We will cover the daily essentials such as the calendar and weather updates\, and guide opportunities and activities that promote exercise and excitement… \nMorning meeting wakes up both the mind and body and is the perfect way to start the day! \nClick here to Join Meeting \nMeeting ID: 830 3698 7359\nPassword: 625588
URL:https://nupathinc.org/event/morning-meeting-2-2023-04-04/
ATTACH;FMTTYPE=:
END:VEVENT
END:VCALENDAR